BEGIN:VCALENDAR
VERSION:2.0
PRODID:-//Kalender//
BEGIN:VEVENT
SUMMARY:8. Installationspraxis
DTSTART:20260701T063000Z
DTEND:20260701T143000Z
DTSTAMP:20260420T022821Z
UID:event_ical_eventmanagement_2291
DESCRIPTION:Wir laden Sie herzlich zur 8. Installationspraxis am 01. Juli 
 2026  ein\, dem Top-Event für die SHK-Branche in Mecklenburg-Vorpommern.
  Die Installationspraxis ist eine Schulungsveranstaltung des Fachverbandes
  Sanitär-\, Heizungs- und Klimatechnik Mecklenburg-Vorpommern\, die auf d
 en Wunsch der Innungsfachbetriebe zurückgeht. Sie richtet sich nicht nur 
 an Betriebsinhaber\, sondern ausdrücklich auch an deren Mitarbeiter. Inst
 allateurinnen und Installateure aus ganz Mecklenburg-Vorpommern haben hier
  die Möglichkeit\, sich zu aktuellen Themen wie Wärmepumpentechnik\, Ern
 euerbare Energien\, Trinkwasser\, Gastechnik\, Heizungstechnik\, Entwässe
 rungstechnik und Arbeitsschutz zu informieren und ihr Fachwissen auf den n
 euesten Stand zu bringen. Im Van der Valk Resort in Linstow erwarten Sie i
 m Valkensaal rund 30 Aussteller aus Industrie und Großhandel\, die ihre P
 rodukte\, Lösungen und Neuheiten präsentieren. Auch in diesem Jahr finde
 t die Installationspraxis wieder als kompakte eintägige Veranstaltung sta
 tt. Sie erwartet ein abwechslungsreiches Programm mit ausreichend Zeit fü
 r Gespräche\, Austausch und aktuelle Brancheninformationen. Die Installat
 ionspraxis ergänzt damit unser bewährtes Seminar- und Schulungsangebot\,
  das bereits seit vielen Jahren erfolgreich besteht.
LOCATION:Van der Valk Resort Linstow\, Krakower Chaussee 1\, 18292 Linstow
 \, -
END:VEVENT
END:VCALENDAR
