BEGIN:VCALENDAR
VERSION:2.0
PRODID:-//Kalender//
BEGIN:VEVENT
SUMMARY:80-Stunden-Lehrgang Technische Regeln in der Trinkwasserinstallati
 on sowie Trinkwasserverordnung
DTSTART:20260901T070000Z
DTEND:20260924T150000Z
DTSTAMP:20260420T022314Z
UID:event_ical_eventmanagement_2292
DESCRIPTION:Voraussetzung für die Eintragung in die Installateurverzeichn
 isse ist - neben der Eintragung in die Handwerksrolle mit dem Installateur
 - und Heizungsbauerhandwerk- das Bestehen der Prüfung zum 80- Stunden-Leh
 rgang. Inhalte :                Trinkwasserverordnung (Neuh
 eiten 2018) DIN EN 806 mit den Teilen 1 – 5 DIN 1988 Teil 100 / DIN EN 1
 717 – Schutz des Trinkwassers DIN 1988 Teil 200 Planungsgrundsätze DIN 
 1988 Teil 300 Rohrnetzberechnung DIN 1988 – Teil 500 Druckerhöhung DIN 
 1988 – Teil 600 Feuerlöschanlagen ZVSHK-Merkblätter zur Trinkwasserins
 tallation Praxisseminar Die Durchführung des Lehrgangs erfolgt in der Zei
 t vom 01.09.2026 – 24.09.2026. Die genauen Termine werden nach Anmeldung
  oder auf Nachfrage herausgegeben.
LOCATION:ICR Informatik Center Roggentin\, Konrad-Zuse-Straße 1 A\, 18184
  Roggentin\, -
END:VEVENT
END:VCALENDAR
