BEGIN:VCALENDAR
VERSION:2.0
PRODID:-//Kalender//
BEGIN:VEVENT
SUMMARY:Verarbeitungsrichtlinie für Verbindungstechnik
DTSTART:20260929T070000Z
DTEND:20260929T103000Z
DTSTAMP:20260421T120655Z
UID:event_ical_eventmanagement_2330
DESCRIPTION:Für Innungsmitglieder und E-Club Mitglieder ist dieses Semina
 r kostenfrei. Im Seminar „Verarbeitungsrichtlinie für Verbindungstechni
 k“ erhalten die Teilnehmenden einen Überblick über verschiedene Kabelt
 ypen und deren Herstellung sowie über passende Kabelverbinder für unters
 chiedliche Anwendungen. Ergänzend wird in einer praktischen Vorführung d
 as richtige und falsche Verpressen von Verbindern demonstriert\, um die Be
 deutung einer fachgerechten Verarbeitung zu verdeutlichen.  Seminarinhalt
 e: Mögliche Kabeltypen und deren Herstellung Kabelverbinder – Unterschi
 edliche Typen für die verschiedenen Anwendungen Praktische Vorführung f
 ür das richtige und falsche Verpressen der verschiedenen Verbinder Refere
 nt: Thomas Lüneburg von der Firma CIMCO
LOCATION:ICR Informatik Center Roggentin\, Konrad-Zuse-Straße 1 A\, 18184
  Roggentin\, Deutschland
END:VEVENT
END:VCALENDAR
